BEGIN:VCALENDAR
VERSION:2.0
PRODID:-//The Diverse Doula - ECPv6.0.6.2//NONSGML v1.0//EN
CALSCALE:GREGORIAN
METHOD:PUBLISH
X-WR-CALNAME:The Diverse Doula
X-ORIGINAL-URL:https://thediversedoula.com
X-WR-CALDESC:Events for The Diverse Doula
REFRESH-INTERVAL;VALUE=DURATION:PT1H
X-Robots-Tag:noindex
X-PUBLISHED-TTL:PT1H
BEGIN:VTIMEZONE
TZID:America/New_York
BEGIN:DAYLIGHT
TZOFFSETFROM:-0500
TZOFFSETTO:-0400
TZNAME:EDT
DTSTART:20230312T070000
END:DAYLIGHT
BEGIN:STANDARD
TZOFFSETFROM:-0400
TZOFFSETTO:-0500
TZNAME:EST
DTSTART:20231105T060000
END:STANDARD
END:VTIMEZONE
BEGIN:VEVENT
DTSTART;TZID=America/New_York:20230219T080000
DTEND;TZID=America/New_York:20230219T170000
DTSTAMP:20260425T193922
CREATED:20230209T174147Z
LAST-MODIFIED:20230209T174340Z
UID:5554-1676793600-1676826000@thediversedoula.com
SUMMARY:Prenatal & Postnatal Care & Yoga
DESCRIPTION:Every 3rd Sunday 1pm \nGentle Yoga\, Meditation\, Journaling
URL:https://thediversedoula.com/calendar/prenatal-postnatal-care/
LOCATION:Va
END:VEVENT
END:VCALENDAR