BEGIN:VCALENDAR
VERSION:2.0
PRODID:-//The Diverse Doula - ECPv6.0.6.2//NONSGML v1.0//EN
CALSCALE:GREGORIAN
METHOD:PUBLISH
X-WR-CALNAME:The Diverse Doula
X-ORIGINAL-URL:https://thediversedoula.com
X-WR-CALDESC:Events for The Diverse Doula
REFRESH-INTERVAL;VALUE=DURATION:PT1H
X-Robots-Tag:noindex
X-PUBLISHED-TTL:PT1H
BEGIN:VTIMEZONE
TZID:America/New_York
BEGIN:DAYLIGHT
TZOFFSETFROM:-0500
TZOFFSETTO:-0400
TZNAME:EDT
DTSTART:20230312T070000
END:DAYLIGHT
BEGIN:STANDARD
TZOFFSETFROM:-0400
TZOFFSETTO:-0500
TZNAME:EST
DTSTART:20231105T060000
END:STANDARD
END:VTIMEZONE
BEGIN:VEVENT
DTSTART;TZID=America/New_York:20230113T180000
DTEND;TZID=America/New_York:20230113T190000
DTSTAMP:20260425T233528
CREATED:20221221T215331Z
LAST-MODIFIED:20221221T215331Z
UID:5470-1673632800-1673636400@thediversedoula.com
SUMMARY:Pregnancy / Postpartum Group
DESCRIPTION:For current clients only
URL:https://thediversedoula.com/calendar/pregnancy-postpartum-group/
LOCATION:TDB ST Luke Legacy Center\, 900 St James Street\, Richmond\, Va\, 23220
END:VEVENT
BEGIN:VEVENT
DTSTART;TZID=America/New_York:20230110T180000
DTEND;TZID=America/New_York:20230110T190000
DTSTAMP:20260425T233528
CREATED:20221221T225052Z
LAST-MODIFIED:20221221T225052Z
UID:5516-1673373600-1673377200@thediversedoula.com
SUMMARY:Hypnobirthing w/ Certified Instructor Nytasha Stevens
DESCRIPTION:Four week in person class start 1/10\,2023-1/31\,2023 \nThis form of childbirth education isn’t just for 1st time parent’s…it’s for parent’s who want to approach their pregnancy and labor without fear!! It’s for families who want to understand what their body is doing before its time for baby to come. It’s mindfulness!! Its to help you bond with your baby even before you meet them\, and it’s to help your birthing companion know how to support you during your pregnancy\, while in labor\, and once your baby is born. Yup…it’s a class for 2!!\nWhile HypnoBirthing helps you realize how magical your body is\, what it’s NOT is telling you is that you can’t and/or shouldn’t have interventions if you feel that you need them. Your body\, your birth!! We talk about how the word’s you speak and the phrases you use can have a negative impact on your labor\, and offer up different ways to speak into the life and positive birthing experience that you desire!! \nOne of my favorite parts of teaching HypnoBirthing is watching the parents confidence grow…kind of like an “ah-ha” moment.
URL:https://thediversedoula.com/calendar/hypnobirthing-w-certified-instructor-nytasha-stevens/
LOCATION:TDB ST Luke Legacy Center\, 900 St James Street\, Richmond\, Va\, 23220
ORGANIZER;CN="The%20Diverse%20Birth":MAILTO:kiya@thediversedoula.com
END:VEVENT
BEGIN:VEVENT
DTSTART;TZID=America/New_York:20230107T110000
DTEND;TZID=America/New_York:20230107T120000
DTSTAMP:20260425T233528
CREATED:20221221T220901Z
LAST-MODIFIED:20221221T221353Z
UID:5487-1673089200-1673092800@thediversedoula.com
SUMMARY:The Diverse Book Club
DESCRIPTION:Join us as we discuss books related to birth and pregnancy. Snacks will be provided. $5 donation suggested. \nFirst Saturday 11am \n 
URL:https://thediversedoula.com/calendar/book-club/
LOCATION:TDB ST Luke Legacy Center\, 900 St James Street\, Richmond\, Va\, 23220
ORGANIZER;CN="The%20Diverse%20Birth":MAILTO:kiya@thediversedoula.com
END:VEVENT
END:VCALENDAR