BEGIN:VCALENDAR
VERSION:2.0
PRODID:-//The Diverse Doula - ECPv6.0.6.2//NONSGML v1.0//EN
CALSCALE:GREGORIAN
METHOD:PUBLISH
X-WR-CALNAME:The Diverse Doula
X-ORIGINAL-URL:https://thediversedoula.com
X-WR-CALDESC:Events for The Diverse Doula
REFRESH-INTERVAL;VALUE=DURATION:PT1H
X-Robots-Tag:noindex
X-PUBLISHED-TTL:PT1H
BEGIN:VTIMEZONE
TZID:America/New_York
BEGIN:DAYLIGHT
TZOFFSETFROM:-0500
TZOFFSETTO:-0400
TZNAME:EDT
DTSTART:20230312T070000
END:DAYLIGHT
BEGIN:STANDARD
TZOFFSETFROM:-0400
TZOFFSETTO:-0500
TZNAME:EST
DTSTART:20231105T060000
END:STANDARD
END:VTIMEZONE
BEGIN:VEVENT
DTSTART;TZID=America/New_York:20230210T180000
DTEND;TZID=America/New_York:20230210T190000
DTSTAMP:20260422T182227
CREATED:20221221T220049Z
LAST-MODIFIED:20221221T220049Z
UID:5479-1676052000-1676055600@thediversedoula.com
SUMMARY:Pregnancy/Postpartum Group
DESCRIPTION:For current clients only
URL:https://thediversedoula.com/calendar/pregnancy-postpartum-group-3/
LOCATION:TDB ST Luke Legacy Center\, 900 St James Street\, Richmond\, Va\, 23220
ORGANIZER;CN="The%20Diverse%20Birth":MAILTO:kiya@thediversedoula.com
END:VEVENT
BEGIN:VEVENT
DTSTART;TZID=America/New_York:20230204T110000
DTEND;TZID=America/New_York:20230204T120000
DTSTAMP:20260422T182227
CREATED:20221221T221015Z
LAST-MODIFIED:20221221T221015Z
UID:5490-1675508400-1675512000@thediversedoula.com
SUMMARY:The Diverse Book Club
DESCRIPTION:Join us as we discuss books related to birth and pregnancy. Snacks will be provided. $5 donation suggested. \nFirst Saturday 11am
URL:https://thediversedoula.com/calendar/the-diverse-book-club/
LOCATION:TDB ST Luke Legacy Center\, 900 St James Street\, Richmond\, Va\, 23220
ORGANIZER;CN="The%20Diverse%20Birth":MAILTO:kiya@thediversedoula.com
END:VEVENT
BEGIN:VEVENT
DTSTART;TZID=America/New_York:20230131T180000
DTEND;TZID=America/New_York:20230131T190000
DTSTAMP:20260422T182227
CREATED:20221221T225405Z
LAST-MODIFIED:20221221T230119Z
UID:5522-1675188000-1675191600@thediversedoula.com
SUMMARY:Hypnobirthing w/ Certified Instructor Nytasha Stevens
DESCRIPTION:Four week in person class start 1/10\,2023-1/31\,2023 \nThis form of childbirth education isn’t just for 1st time parent’s…it’s for parent’s who want to approach their pregnancy and labor without fear!! It’s for families who want to understand what their body is doing before its time for baby to come. It’s mindfulness!! Its to help you bond with your baby even before you meet them\, and it’s to help your birthing companion know how to support you during your pregnancy\, while in labor\, and once your baby is born. Yup…it’s a class for 2!!\nWhile HypnoBirthing helps you realize how magical your body is\, what it’s NOT is telling you is that you can’t and/or shouldn’t have interventions if you feel that you need them. Your body\, your birth!! We talk about how the word’s you speak and the phrases you use can have a negative impact on your labor\, and offer up different ways to speak into the life and positive birthing experience that you desire!! \nOne of my favorite parts of teaching HypnoBirthing is watching the parents confidence grow…kind of like an “ah-ha” moment.
URL:https://thediversedoula.com/calendar/hypnobirthing-w-nytasha-stevens-3/
LOCATION:TDB ST Luke Legacy Center\, 900 St James Street\, Richmond\, Va\, 23220
ORGANIZER;CN="The%20Diverse%20Birth":MAILTO:kiya@thediversedoula.com
END:VEVENT
BEGIN:VEVENT
DTSTART;TZID=America/New_York:20230124T180000
DTEND;TZID=America/New_York:20230124T190000
DTSTAMP:20260422T182227
CREATED:20221221T225252Z
LAST-MODIFIED:20221221T230103Z
UID:5520-1674583200-1674586800@thediversedoula.com
SUMMARY:Hypnobirthing w/ Certified Instructor  Nytasha Stevens
DESCRIPTION:Four week in person class start 1/10\,2023-1/31\,2023 \nThis form of childbirth education isn’t just for 1st time parent’s…it’s for parent’s who want to approach their pregnancy and labor without fear!! It’s for families who want to understand what their body is doing before its time for baby to come. It’s mindfulness!! Its to help you bond with your baby even before you meet them\, and it’s to help your birthing companion know how to support you during your pregnancy\, while in labor\, and once your baby is born. Yup…it’s a class for 2!!\nWhile HypnoBirthing helps you realize how magical your body is\, what it’s NOT is telling you is that you can’t and/or shouldn’t have interventions if you feel that you need them. Your body\, your birth!! We talk about how the word’s you speak and the phrases you use can have a negative impact on your labor\, and offer up different ways to speak into the life and positive birthing experience that you desire!! \nOne of my favorite parts of teaching HypnoBirthing is watching the parents confidence grow…kind of like an “ah-ha” moment.
URL:https://thediversedoula.com/calendar/hypnobirthing-w-nytasha-stevens-2/
LOCATION:TDB ST Luke Legacy Center\, 900 St James Street\, Richmond\, Va\, 23220
ORGANIZER;CN="The%20Diverse%20Birth":MAILTO:kiya@thediversedoula.com
END:VEVENT
BEGIN:VEVENT
DTSTART;TZID=America/New_York:20230122T130000
DTEND;TZID=America/New_York:20230122T140000
DTSTAMP:20260422T182227
CREATED:20221221T221911Z
LAST-MODIFIED:20221221T221911Z
UID:5502-1674392400-1674396000@thediversedoula.com
SUMMARY:Yoga w/ Nini
DESCRIPTION:Every 4th Sunday 1pm \nGentle Yoga\, Meditation\, Journaling
URL:https://thediversedoula.com/calendar/yoga-w-nini/
LOCATION:TDB ST Luke Legacy Center\, 900 St James Street\, Richmond\, Va\, 23220
ORGANIZER;CN="The%20Diverse%20Birth":MAILTO:kiya@thediversedoula.com
END:VEVENT
BEGIN:VEVENT
DTSTART;TZID=America/New_York:20230122T100000
DTEND;TZID=America/New_York:20230122T120000
DTSTAMP:20260422T182227
CREATED:20230102T161553Z
LAST-MODIFIED:20230103T182220Z
UID:5542-1674381600-1674388800@thediversedoula.com
SUMMARY:Beyond The Bump
DESCRIPTION:  \nWe are inviting new moms and their babes to our free mommy meet up every 4th Sunday from 10am -12. Here you will find camaraderie\, support\, and informative sessions\, we invite you to drop in for free with your babies (newborn to 3yrs old). While you are here\, you can also get Lactation support form certified CLCs & CBS\, baby weigh ins and postpartum and early intervention support for $20. \n  \nWe get it you already have best friends\, but maybe their children are older\, or maybe you need to just chat with someone that gets what being a new mom feels like. Either way we are here. is a fun educational playroom experience for children from infancy and 3 years old. Our educational play-based program nurtures the imagination of children through music\, movement\, and play. \n  \n 
URL:https://thediversedoula.com/calendar/mom-cafe/
LOCATION:Va
END:VEVENT
BEGIN:VEVENT
DTSTART;TZID=America/New_York:20230117T180000
DTEND;TZID=America/New_York:20230117T190000
DTSTAMP:20260422T182227
CREATED:20221221T225200Z
LAST-MODIFIED:20221221T230041Z
UID:5518-1673978400-1673982000@thediversedoula.com
SUMMARY:Hypnobirthing /w Certified Instructor Nytasha Stevens
DESCRIPTION:Four week in person class start 1/10\,2023-1/31\,2023 \nThis form of childbirth education isn’t just for 1st time parent’s…it’s for parent’s who want to approach their pregnancy and labor without fear!! It’s for families who want to understand what their body is doing before its time for baby to come. It’s mindfulness!! Its to help you bond with your baby even before you meet them\, and it’s to help your birthing companion know how to support you during your pregnancy\, while in labor\, and once your baby is born. Yup…it’s a class for 2!!\nWhile HypnoBirthing helps you realize how magical your body is\, what it’s NOT is telling you is that you can’t and/or shouldn’t have interventions if you feel that you need them. Your body\, your birth!! We talk about how the word’s you speak and the phrases you use can have a negative impact on your labor\, and offer up different ways to speak into the life and positive birthing experience that you desire!! \nOne of my favorite parts of teaching HypnoBirthing is watching the parents confidence grow…kind of like an “ah-ha” moment.
URL:https://thediversedoula.com/calendar/hypnobirthing-w-nytasha-stevens/
LOCATION:TDB ST Luke Legacy Center\, 900 St James Street\, Richmond\, Va\, 23220
ORGANIZER;CN="The%20Diverse%20Birth":MAILTO:kiya@thediversedoula.com
END:VEVENT
BEGIN:VEVENT
DTSTART;TZID=America/New_York:20230113T180000
DTEND;TZID=America/New_York:20230113T190000
DTSTAMP:20260422T182227
CREATED:20221221T215331Z
LAST-MODIFIED:20221221T215331Z
UID:5470-1673632800-1673636400@thediversedoula.com
SUMMARY:Pregnancy / Postpartum Group
DESCRIPTION:For current clients only
URL:https://thediversedoula.com/calendar/pregnancy-postpartum-group/
LOCATION:TDB ST Luke Legacy Center\, 900 St James Street\, Richmond\, Va\, 23220
END:VEVENT
BEGIN:VEVENT
DTSTART;TZID=America/New_York:20230110T180000
DTEND;TZID=America/New_York:20230110T190000
DTSTAMP:20260422T182227
CREATED:20221221T225052Z
LAST-MODIFIED:20221221T225052Z
UID:5516-1673373600-1673377200@thediversedoula.com
SUMMARY:Hypnobirthing w/ Certified Instructor Nytasha Stevens
DESCRIPTION:Four week in person class start 1/10\,2023-1/31\,2023 \nThis form of childbirth education isn’t just for 1st time parent’s…it’s for parent’s who want to approach their pregnancy and labor without fear!! It’s for families who want to understand what their body is doing before its time for baby to come. It’s mindfulness!! Its to help you bond with your baby even before you meet them\, and it’s to help your birthing companion know how to support you during your pregnancy\, while in labor\, and once your baby is born. Yup…it’s a class for 2!!\nWhile HypnoBirthing helps you realize how magical your body is\, what it’s NOT is telling you is that you can’t and/or shouldn’t have interventions if you feel that you need them. Your body\, your birth!! We talk about how the word’s you speak and the phrases you use can have a negative impact on your labor\, and offer up different ways to speak into the life and positive birthing experience that you desire!! \nOne of my favorite parts of teaching HypnoBirthing is watching the parents confidence grow…kind of like an “ah-ha” moment.
URL:https://thediversedoula.com/calendar/hypnobirthing-w-certified-instructor-nytasha-stevens/
LOCATION:TDB ST Luke Legacy Center\, 900 St James Street\, Richmond\, Va\, 23220
ORGANIZER;CN="The%20Diverse%20Birth":MAILTO:kiya@thediversedoula.com
END:VEVENT
BEGIN:VEVENT
DTSTART;TZID=America/New_York:20230107T110000
DTEND;TZID=America/New_York:20230107T120000
DTSTAMP:20260422T182227
CREATED:20221221T220901Z
LAST-MODIFIED:20221221T221353Z
UID:5487-1673089200-1673092800@thediversedoula.com
SUMMARY:The Diverse Book Club
DESCRIPTION:Join us as we discuss books related to birth and pregnancy. Snacks will be provided. $5 donation suggested. \nFirst Saturday 11am \n 
URL:https://thediversedoula.com/calendar/book-club/
LOCATION:TDB ST Luke Legacy Center\, 900 St James Street\, Richmond\, Va\, 23220
ORGANIZER;CN="The%20Diverse%20Birth":MAILTO:kiya@thediversedoula.com
END:VEVENT
END:VCALENDAR